BEGIN:VCALENDAR
VERSION:2.0
PRODID:-//3nity.com//3nity CMS//EN
BEGIN:VEVENT
SUMMARY:No Women's Bible Study
UID:2025-07-17-1124506@www.faithmentor.org
SEQUENCE:0
STATUS:CONFIRMED
DTSTART:20250122T093000
DTEND:20250122T103000
DTSTAMP:20161222T120000
DESCRIPTION:
URL:http://www.faithmentor.org
END:VEVENT
END:VCALENDAR
